BEGIN:VCALENDAR
VERSION:2.0
PRODID:-//Markaut//Trade Fair Calendar//EN
CALSCALE:GREGORIAN
METHOD:PUBLISH
BEGIN:VEVENT
UID:vds-brandschutztage-cologne-germany@markaut.com
DTSTAMP:20260420T075310Z
DTSTART;VALUE=DATE:20260420
DTEND;VALUE=DATE:20260421
SUMMARY:VdS-BrandSchutzTage
LOCATION:Messegelände, Cologne, Germany
DESCRIPTION:Trade fair and conferences on preventive fire protection
URL:https://www.markaut.com/zh/fairs/vds-brandschutztage-cologne-germany/
END:VEVENT
END:VCALENDAR
