BEGIN:VCALENDAR
VERSION:2.0
PRODID:-//Markaut//Trade Fair Calendar//EN
CALSCALE:GREGORIAN
METHOD:PUBLISH
BEGIN:VEVENT
UID:solar-storage-live-manila-philippines@markaut.com
DTSTAMP:20260421T102013Z
DTSTART;VALUE=DATE:20260421
DTEND;VALUE=DATE:20260422
SUMMARY:Solar & Storage LIVE
LOCATION:SMX Convention Center, Mall of Asia Complex, Manila, Philippines
DESCRIPTION:
URL:https://www.markaut.com/zh/fairs/solar-storage-live-manila-philippines/
END:VEVENT
END:VCALENDAR
