BEGIN:VCALENDAR
VERSION:2.0
PRODID:-//Markaut//Trade Fair Calendar//EN
CALSCALE:GREGORIAN
METHOD:PUBLISH
BEGIN:VEVENT
UID:salon-du-fromage-et-des-produits-laitiers-paris-france@markaut.com
DTSTAMP:20260420T043523Z
DTSTART;VALUE=DATE:20260420
DTEND;VALUE=DATE:20260421
SUMMARY:Salon du Fromage et des Produits Laitiers
LOCATION:Paris expo Porte de Versailles (VIPARIS), Paris, France
DESCRIPTION:The Cheese and Dairy Products Show
URL:https://www.markaut.com/zh/fairs/salon-du-fromage-et-des-produits-laitiers-paris-france/
END:VEVENT
END:VCALENDAR
