BEGIN:VCALENDAR
VERSION:2.0
PRODID:-//Markaut//Trade Fair Calendar//EN
CALSCALE:GREGORIAN
METHOD:PUBLISH
BEGIN:VEVENT
UID:jiam-not-yet-determined-japan@markaut.com
DTSTAMP:20260421T120727Z
DTSTART;VALUE=DATE:20281101
DTEND;VALUE=DATE:20281102
SUMMARY:JIAM
LOCATION:noch offen/not yet determined, not yet determined, Japan
DESCRIPTION:Japan International Apparel Machinery & Textile Industry Trade Show
URL:https://www.markaut.com/zh/fairs/jiam-not-yet-determined-japan/
END:VEVENT
END:VCALENDAR
