BEGIN:VCALENDAR
VERSION:2.0
PRODID:-//Markaut//Trade Fair Calendar//EN
CALSCALE:GREGORIAN
METHOD:PUBLISH
BEGIN:VEVENT
UID:ism-manufacturing-cologne-germany@markaut.com
DTSTAMP:20260422T022553Z
DTSTART;VALUE=DATE:20260422
DTEND;VALUE=DATE:20260423
SUMMARY:ISM Manufacturing
LOCATION:Messegelände, Cologne, Germany
DESCRIPTION:The international supplier fair for the sweets and snacks industry
URL:https://www.markaut.com/zh/fairs/ism-manufacturing-cologne-germany/
END:VEVENT
END:VCALENDAR
