BEGIN:VCALENDAR
VERSION:2.0
PRODID:-//Markaut//Trade Fair Calendar//EN
CALSCALE:GREGORIAN
METHOD:PUBLISH
BEGIN:VEVENT
UID:interwine-china-guangzhou-guangzhou-china-peoples-republic@markaut.com
DTSTAMP:20260424T110113Z
DTSTART;VALUE=DATE:20261101
DTEND;VALUE=DATE:20261102
SUMMARY:Interwine China - Guangzhou
LOCATION:Canton Fair Complex, Pazhou (China Import & Export Fair Complex), Guangzhou, China, People\'s Republic
DESCRIPTION:
URL:https://www.markaut.com/zh/fairs/interwine-china-guangzhou-guangzhou-china-peoples-republic/
END:VEVENT
END:VCALENDAR
