BEGIN:VCALENDAR
VERSION:2.0
PRODID:-//Markaut//Trade Fair Calendar//EN
CALSCALE:GREGORIAN
METHOD:PUBLISH
BEGIN:VEVENT
UID:intercharm-ukraine-kiev-ukraine@markaut.com
DTSTAMP:20260419T231925Z
DTSTART;VALUE=DATE:20270901
DTEND;VALUE=DATE:20270902
SUMMARY:InterCHARM Ukraine
LOCATION:IEC International Exhibition Centre, Kiev, Ukraine
DESCRIPTION:International Perfumery & Cosmetics Exhibition
URL:https://www.markaut.com/zh/fairs/intercharm-ukraine-kiev-ukraine/
END:VEVENT
END:VCALENDAR
