BEGIN:VCALENDAR
VERSION:2.0
PRODID:-//Markaut//Trade Fair Calendar//EN
CALSCALE:GREGORIAN
METHOD:PUBLISH
BEGIN:VEVENT
UID:foodpro-not-yet-determined-australia@markaut.com
DTSTAMP:20260420T004844Z
DTSTART;VALUE=DATE:20290701
DTEND;VALUE=DATE:20290702
SUMMARY:FOODPRO
LOCATION:noch offen/not yet determined, not yet determined, Australia
DESCRIPTION:International Food Processing Machinery and Technology Exhibition and Conference
URL:https://www.markaut.com/zh/fairs/foodpro-not-yet-determined-australia/
END:VEVENT
END:VCALENDAR
