BEGIN:VCALENDAR
VERSION:2.0
PRODID:-//Markaut//Trade Fair Calendar//EN
CALSCALE:GREGORIAN
METHOD:PUBLISH
BEGIN:VEVENT
UID:feria-alimentos-cuba-havana-cuba@markaut.com
DTSTAMP:20260420T005002Z
DTSTART;VALUE=DATE:20260501
DTEND;VALUE=DATE:20260502
SUMMARY:Feria Alimentos Cuba
LOCATION:PABEXPO, Havana, Cuba
DESCRIPTION:Food Exhibition
URL:https://www.markaut.com/zh/fairs/feria-alimentos-cuba-havana-cuba/
END:VEVENT
END:VCALENDAR
