BEGIN:VCALENDAR
VERSION:2.0
PRODID:-//Markaut//Trade Fair Calendar//EN
CALSCALE:GREGORIAN
METHOD:PUBLISH
BEGIN:VEVENT
UID:expoprotection-paris-france@markaut.com
DTSTAMP:20260420T042936Z
DTSTART;VALUE=DATE:20261101
DTEND;VALUE=DATE:20261102
SUMMARY:EXPOPROTECTION
LOCATION:Paris expo Porte de Versailles (VIPARIS), Paris, France
DESCRIPTION:The Exhibition for Risk Prevention and Management
URL:https://www.markaut.com/zh/fairs/expoprotection-paris-france/
END:VEVENT
END:VCALENDAR
