BEGIN:VCALENDAR
VERSION:2.0
PRODID:-//Markaut//Trade Fair Calendar//EN
CALSCALE:GREGORIAN
METHOD:PUBLISH
BEGIN:VEVENT
UID:dairytech-moscow-russia@markaut.com
DTSTAMP:20260422T074913Z
DTSTART;VALUE=DATE:20260422
DTEND;VALUE=DATE:20260423
SUMMARY:DairyTech
LOCATION:Crocus Expo International Exhibition Centre, Moscow, Russia
DESCRIPTION:International Dairy Technology Exhibition
URL:https://www.markaut.com/zh/fairs/dairytech-moscow-russia/
END:VEVENT
END:VCALENDAR
