BEGIN:VCALENDAR
VERSION:2.0
PRODID:-//Markaut//Trade Fair Calendar//EN
CALSCALE:GREGORIAN
METHOD:PUBLISH
BEGIN:VEVENT
UID:cphi-middle-east-riyadh-saudi-arabia@markaut.com
DTSTAMP:20260424T111750Z
DTSTART;VALUE=DATE:20261201
DTEND;VALUE=DATE:20261202
SUMMARY:CPHI Middle East
LOCATION:Riyadh Exhibition & Convention Center - Malham, Riyadh, Saudi Arabia
DESCRIPTION:International Exhibition on Pharmaceutical Ingredients
URL:https://www.markaut.com/zh/fairs/cphi-middle-east-riyadh-saudi-arabia/
END:VEVENT
END:VCALENDAR
