BEGIN:VCALENDAR
VERSION:2.0
PRODID:-//Markaut//Trade Fair Calendar//EN
CALSCALE:GREGORIAN
METHOD:PUBLISH
BEGIN:VEVENT
UID:cosmoprof-north-america-las-vegas-united-states-of-america@markaut.com
DTSTAMP:20260419T200017Z
DTSTART;VALUE=DATE:20270701
DTEND;VALUE=DATE:20270702
SUMMARY:Cosmoprof North America
LOCATION:Mandalay Bay Convention Center, Las Vegas, United States of America
DESCRIPTION:B2B Beauty Trade Show
URL:https://www.markaut.com/zh/fairs/cosmoprof-north-america-las-vegas-united-states-of-america/
END:VEVENT
END:VCALENDAR
