BEGIN:VCALENDAR
VERSION:2.0
PRODID:-//Markaut//Trade Fair Calendar//EN
CALSCALE:GREGORIAN
METHOD:PUBLISH
BEGIN:VEVENT
UID:bett-brasil-sao-paulo-brazil@markaut.com
DTSTAMP:20260419T140041Z
DTSTART;VALUE=DATE:20260505
DTEND;VALUE=DATE:20260509
SUMMARY:Bett Brasil
LOCATION:Transamerica Expo Center, Sao Paulo, Brazil
DESCRIPTION:International Education Fair & Congress
URL:https://www.markaut.com/zh/fairs/bett-brasil-sao-paulo-brazil/
END:VEVENT
END:VCALENDAR
