BEGIN:VCALENDAR
VERSION:2.0
PRODID:-//Markaut//Trade Fair Calendar//EN
CALSCALE:GREGORIAN
METHOD:PUBLISH
BEGIN:VEVENT
UID:bakery-plus-ankara-t-rkiye@markaut.com
DTSTAMP:20260420T045759Z
DTSTART;VALUE=DATE:20271001
DTEND;VALUE=DATE:20271002
SUMMARY:Bakery Plus
LOCATION:Congresium Ankara ATO International Convention & Exhibition Centre, Ankara, Türkiye
DESCRIPTION:Trade Fair for Bakery, Pastry Machines, Ice Cream, Chocolate & Technologies
URL:https://www.markaut.com/zh/fairs/bakery-plus-ankara-t-rkiye/
END:VEVENT
END:VCALENDAR
