BEGIN:VCALENDAR
VERSION:2.0
PRODID:-//Markaut//Trade Fair Calendar//EN
CALSCALE:GREGORIAN
METHOD:PUBLISH
BEGIN:VEVENT
UID:mitex-moscow-russia@markaut.com
DTSTAMP:20260424T181305Z
DTSTART;VALUE=DATE:20271101
DTEND;VALUE=DATE:20271102
SUMMARY:MITEX
LOCATION:Crocus Expo International Exhibition Centre, Moscow, Russia
DESCRIPTION:International Tool Expo
URL:https://www.markaut.com/tr/fairs/mitex-moscow-russia/
END:VEVENT
END:VCALENDAR
