BEGIN:VCALENDAR
VERSION:2.0
PRODID:-//Markaut//Trade Fair Calendar//EN
CALSCALE:GREGORIAN
METHOD:PUBLISH
BEGIN:VEVENT
UID:iwa-glasgow-united-kingdom-of-great-britain-and-northern-ireland@markaut.com
DTSTAMP:20260421T090221Z
DTSTART;VALUE=DATE:20260421
DTEND;VALUE=DATE:20260422
SUMMARY:IWA
LOCATION:SEC Centre (previously SECC), Glasgow, United Kingdom of Great Britain and Northern Ireland
DESCRIPTION:World Water Congress and Exhibition
URL:https://www.markaut.com/tr/fairs/iwa-glasgow-united-kingdom-of-great-britain-and-northern-ireland/
END:VEVENT
END:VCALENDAR
