BEGIN:VCALENDAR
VERSION:2.0
PRODID:-//Markaut//Trade Fair Calendar//EN
CALSCALE:GREGORIAN
METHOD:PUBLISH
BEGIN:VEVENT
UID:itb-china-shanghai-china-peoples-republic@markaut.com
DTSTAMP:20260424T160623Z
DTSTART;VALUE=DATE:20260424
DTEND;VALUE=DATE:20260425
SUMMARY:ITB China
LOCATION:Shanghai World Expo Exhibition & Convention Center (SWEECC), Shanghai, China, People\'s Republic
DESCRIPTION:The Marketplace for China\'s Travel Industry
URL:https://www.markaut.com/tr/fairs/itb-china-shanghai-china-peoples-republic/
END:VEVENT
END:VCALENDAR
