BEGIN:VCALENDAR
VERSION:2.0
PRODID:-//Markaut//Trade Fair Calendar//EN
CALSCALE:GREGORIAN
METHOD:PUBLISH
BEGIN:VEVENT
UID:fespo-z-rich-zurich-switzerland@markaut.com
DTSTAMP:20260419T140041Z
DTSTART;VALUE=DATE:20260419
DTEND;VALUE=DATE:20260420
SUMMARY:FESPO ZÜRICH
LOCATION:Messe Zürich, Zurich, Switzerland
DESCRIPTION:World of Travel
URL:https://www.markaut.com/tr/fairs/fespo-z-rich-zurich-switzerland/
END:VEVENT
END:VCALENDAR
