BEGIN:VCALENDAR
VERSION:2.0
PRODID:-//Markaut//Trade Fair Calendar//EN
CALSCALE:GREGORIAN
METHOD:PUBLISH
BEGIN:VEVENT
UID:expovina-primavera-zurich-switzerland@markaut.com
DTSTAMP:20260421T171702Z
DTSTART;VALUE=DATE:20260421
DTEND;VALUE=DATE:20260422
SUMMARY:EXPOVINA Primavera
LOCATION:Puls 5/Giessereihalle, Zurich, Switzerland
DESCRIPTION:Schweizer Frühlings-Weinmarkt
URL:https://www.markaut.com/tr/fairs/expovina-primavera-zurich-switzerland/
END:VEVENT
END:VCALENDAR
