BEGIN:VCALENDAR
VERSION:2.0
PRODID:-//Markaut//Trade Fair Calendar//EN
CALSCALE:GREGORIAN
METHOD:PUBLISH
BEGIN:VEVENT
UID:dsei-london-united-kingdom-of-great-britain-and-northern-ireland@markaut.com
DTSTAMP:20260420T050203Z
DTSTART;VALUE=DATE:20260420
DTEND;VALUE=DATE:20260421
SUMMARY:DSEi
LOCATION:ExCeL London, London, United Kingdom of Great Britain and Northern Ireland
DESCRIPTION:Defence Systems and Equipment International Exhibition and Conference
URL:https://www.markaut.com/tr/fairs/dsei-london-united-kingdom-of-great-britain-and-northern-ireland/
END:VEVENT
END:VCALENDAR
