BEGIN:VCALENDAR
VERSION:2.0
PRODID:-//Markaut//Trade Fair Calendar//EN
CALSCALE:GREGORIAN
METHOD:PUBLISH
BEGIN:VEVENT
UID:cosmoprof-north-america-miami-miami-beach-united-states-of-america@markaut.com
DTSTAMP:20260419T195833Z
DTSTART;VALUE=DATE:20260419
DTEND;VALUE=DATE:20260420
SUMMARY:Cosmoprof North America Miami
LOCATION:Miami Beach Convention Center, Miami Beach, United States of America
DESCRIPTION:B2B Beauty Trade Show
URL:https://www.markaut.com/tr/fairs/cosmoprof-north-america-miami-miami-beach-united-states-of-america/
END:VEVENT
END:VCALENDAR
