BEGIN:VCALENDAR
VERSION:2.0
PRODID:-//Markaut//Trade Fair Calendar//EN
CALSCALE:GREGORIAN
METHOD:PUBLISH
BEGIN:VEVENT
UID:ficad-santa-cruz-bolivia@markaut.com
DTSTAMP:20260422T190419Z
DTSTART;VALUE=DATE:20260422
DTEND;VALUE=DATE:20260423
SUMMARY:FICAD
LOCATION:Fexpocruz, Santa Cruz, Bolivia
DESCRIPTION:Construction Fair
URL:https://www.markaut.com/sv/fairs/ficad-santa-cruz-bolivia/
END:VEVENT
END:VCALENDAR
