BEGIN:VCALENDAR
VERSION:2.0
PRODID:-//Markaut//Trade Fair Calendar//EN
CALSCALE:GREGORIAN
METHOD:PUBLISH
BEGIN:VEVENT
UID:cjf-spring-child-junior-fashion-moscow-russia@markaut.com
DTSTAMP:20260424T153825Z
DTSTART;VALUE=DATE:20260424
DTEND;VALUE=DATE:20260425
SUMMARY:CJF Spring - Child & Junior Fashion
LOCATION:Timiryazev Center, Moscow, Russia
DESCRIPTION:International Exhibition for Child and Junior Fashion; Maternity Wear
URL:https://www.markaut.com/sv/fairs/cjf-spring-child-junior-fashion-moscow-russia/
END:VEVENT
END:VCALENDAR
