BEGIN:VCALENDAR
VERSION:2.0
PRODID:-//Markaut//Trade Fair Calendar//EN
CALSCALE:GREGORIAN
METHOD:PUBLISH
BEGIN:VEVENT
UID:cjf-autumn-child-junior-fashion-moscow-russia@markaut.com
DTSTAMP:20260424T153903Z
DTSTART;VALUE=DATE:20270901
DTEND;VALUE=DATE:20270902
SUMMARY:CJF Autumn - Child & Junior Fashion
LOCATION:EXPOCENTRE, Moscow, Russia
DESCRIPTION:International Exhibition for Child and Junior Fashion; Maternity Wear
URL:https://www.markaut.com/sv/fairs/cjf-autumn-child-junior-fashion-moscow-russia/
END:VEVENT
END:VCALENDAR
