BEGIN:VCALENDAR
VERSION:2.0
PRODID:-//Markaut//Trade Fair Calendar//EN
CALSCALE:GREGORIAN
METHOD:PUBLISH
BEGIN:VEVENT
UID:web-summit-lisbon-portugal@markaut.com
DTSTAMP:20260421T200903Z
DTSTART;VALUE=DATE:20260421
DTEND;VALUE=DATE:20260422
SUMMARY:Web Summit
LOCATION:Feira Internacional de Lisboa, Lisbon, Portugal
DESCRIPTION:
URL:https://www.markaut.com/ru/fairs/web-summit-lisbon-portugal/
END:VEVENT
END:VCALENDAR
