BEGIN:VCALENDAR
VERSION:2.0
PRODID:-//Markaut//Trade Fair Calendar//EN
CALSCALE:GREGORIAN
METHOD:PUBLISH
BEGIN:VEVENT
UID:siberian-agricultural-week-novosibirsk-russia@markaut.com
DTSTAMP:20260420T083934Z
DTSTART;VALUE=DATE:20271101
DTEND;VALUE=DATE:20271102
SUMMARY:Siberian agricultural week
LOCATION:Novosibirsk Expo Centre, Novosibirsk, Russia
DESCRIPTION:International Exhibition of Agricultural Production, New Technologies and Equipment
URL:https://www.markaut.com/ru/fairs/siberian-agricultural-week-novosibirsk-russia/
END:VEVENT
END:VCALENDAR
