BEGIN:VCALENDAR
VERSION:2.0
PRODID:-//Markaut//Trade Fair Calendar//EN
CALSCALE:GREGORIAN
METHOD:PUBLISH
BEGIN:VEVENT
UID:sea-expo-riyadh-saudi-arabia@markaut.com
DTSTAMP:20260424T071638Z
DTSTART;VALUE=DATE:20260424
DTEND;VALUE=DATE:20260425
SUMMARY:SEA Expo
LOCATION:Riyadh Front Exhibitions & Conferences Center (RFECC), Riyadh, Saudi Arabia
DESCRIPTION:Saudi Entertainment & Amusement Expo
URL:https://www.markaut.com/ru/fairs/sea-expo-riyadh-saudi-arabia/
END:VEVENT
END:VCALENDAR
