BEGIN:VCALENDAR
VERSION:2.0
PRODID:-//Markaut//Trade Fair Calendar//EN
CALSCALE:GREGORIAN
METHOD:PUBLISH
BEGIN:VEVENT
UID:reiten-jagen-fischen-forst-erfurt-germany@markaut.com
DTSTAMP:20260420T064158Z
DTSTART;VALUE=DATE:20260420
DTEND;VALUE=DATE:20260421
SUMMARY:Reiten-Jagen-Fischen / Forst³
LOCATION:Messegelände, Erfurt, Germany
DESCRIPTION:Exhibition for Riding, Hunting and Fishing
URL:https://www.markaut.com/ru/fairs/reiten-jagen-fischen-forst-erfurt-germany/
END:VEVENT
END:VCALENDAR
