BEGIN:VCALENDAR
VERSION:2.0
PRODID:-//Markaut//Trade Fair Calendar//EN
CALSCALE:GREGORIAN
METHOD:PUBLISH
BEGIN:VEVENT
UID:pharmagoraplus-paris-france@markaut.com
DTSTAMP:20260424T111828Z
DTSTART;VALUE=DATE:20260424
DTEND;VALUE=DATE:20260425
SUMMARY:PharmagoraPlus
LOCATION:Paris expo Porte de Versailles (VIPARIS), Paris, France
DESCRIPTION:The most important exhibition for pharmacists in France
URL:https://www.markaut.com/ru/fairs/pharmagoraplus-paris-france/
END:VEVENT
END:VCALENDAR
