BEGIN:VCALENDAR
VERSION:2.0
PRODID:-//Markaut//Trade Fair Calendar//EN
CALSCALE:GREGORIAN
METHOD:PUBLISH
BEGIN:VEVENT
UID:monaco-yacht-show-monte-carlo-monaco@markaut.com
DTSTAMP:20260421T195134Z
DTSTART;VALUE=DATE:20260901
DTEND;VALUE=DATE:20260902
SUMMARY:MONACO YACHT SHOW
LOCATION:Port Hercule, Monte Carlo, Monaco
DESCRIPTION:
URL:https://www.markaut.com/ru/fairs/monaco-yacht-show-monte-carlo-monaco/
END:VEVENT
END:VCALENDAR
