BEGIN:VCALENDAR
VERSION:2.0
PRODID:-//Markaut//Trade Fair Calendar//EN
CALSCALE:GREGORIAN
METHOD:PUBLISH
BEGIN:VEVENT
UID:md-m-east-new-york-united-states-of-america@markaut.com
DTSTAMP:20260421T202209Z
DTSTART;VALUE=DATE:20270601
DTEND;VALUE=DATE:20270602
SUMMARY:MD & M East
LOCATION:Jacob K. Javits Convention Center, New York, United States of America
DESCRIPTION:Medical Design and Manufacturing East Conference and Exhibition
URL:https://www.markaut.com/ru/fairs/md-m-east-new-york-united-states-of-america/
END:VEVENT
END:VCALENDAR
