BEGIN:VCALENDAR
VERSION:2.0
PRODID:-//Markaut//Trade Fair Calendar//EN
CALSCALE:GREGORIAN
METHOD:PUBLISH
BEGIN:VEVENT
UID:magdeburger-angeltage-magdeburg-germany@markaut.com
DTSTAMP:20260422T023841Z
DTSTART;VALUE=DATE:20260422
DTEND;VALUE=DATE:20260423
SUMMARY:MAGDEBURGER ANGELTAGE
LOCATION:Messe Magdeburg, Magdeburg, Germany
DESCRIPTION:International Fishing Exhibition
URL:https://www.markaut.com/ru/fairs/magdeburger-angeltage-magdeburg-germany/
END:VEVENT
END:VCALENDAR
