BEGIN:VCALENDAR
VERSION:2.0
PRODID:-//Markaut//Trade Fair Calendar//EN
CALSCALE:GREGORIAN
METHOD:PUBLISH
BEGIN:VEVENT
UID:korea-mat-goyang-seoul-korea-republic@markaut.com
DTSTAMP:20260419T165334Z
DTSTART;VALUE=DATE:20260419
DTEND;VALUE=DATE:20260420
SUMMARY:Korea Mat
LOCATION:KINTEX Korea International Exhibition Center, Goyang/Seoul, Korea, Republic
DESCRIPTION:International Materials Handling & Logistics Exhibition
URL:https://www.markaut.com/ru/fairs/korea-mat-goyang-seoul-korea-republic/
END:VEVENT
END:VCALENDAR
