BEGIN:VCALENDAR
VERSION:2.0
PRODID:-//Markaut//Trade Fair Calendar//EN
CALSCALE:GREGORIAN
METHOD:PUBLISH
BEGIN:VEVENT
UID:internationale-holzmesse-klagenfurt-austria@markaut.com
DTSTAMP:20260419T155627Z
DTSTART;VALUE=DATE:20280901
DTEND;VALUE=DATE:20280902
SUMMARY:INTERNATIONALE HOLZMESSE
LOCATION:Die Kärntner Messen, Klagenfurt, Austria
DESCRIPTION:International trade fair for forestry management and technology, sawmill technology and timber construction
URL:https://www.markaut.com/ru/fairs/internationale-holzmesse-klagenfurt-austria/
END:VEVENT
END:VCALENDAR
