BEGIN:VCALENDAR
VERSION:2.0
PRODID:-//Markaut//Trade Fair Calendar//EN
CALSCALE:GREGORIAN
METHOD:PUBLISH
BEGIN:VEVENT
UID:indowater-jakarta-indonesia@markaut.com
DTSTAMP:20260420T020145Z
DTSTART;VALUE=DATE:20260420
DTEND;VALUE=DATE:20260421
SUMMARY:INDOWATER
LOCATION:Jakarta International Exhibition and Congress Center, Jakarta, Indonesia
DESCRIPTION:International Water, Wastewater & Recycling Technology Expo
URL:https://www.markaut.com/ru/fairs/indowater-jakarta-indonesia/
END:VEVENT
END:VCALENDAR
