BEGIN:VCALENDAR
VERSION:2.0
PRODID:-//Markaut//Trade Fair Calendar//EN
CALSCALE:GREGORIAN
METHOD:PUBLISH
BEGIN:VEVENT
UID:heritage-istanbul-istanbul-t-rkiye@markaut.com
DTSTAMP:20260423T033408Z
DTSTART;VALUE=DATE:20260423
DTEND;VALUE=DATE:20260424
SUMMARY:Heritage Istanbul
LOCATION:Yenikapi Eurasia Show and Art Center, Istanbul, Türkiye
DESCRIPTION:Restoration, Archaeology, Museum and Librarianship Technologies Exhibition and Conference
URL:https://www.markaut.com/ru/fairs/heritage-istanbul-istanbul-t-rkiye/
END:VEVENT
END:VCALENDAR
