BEGIN:VCALENDAR
VERSION:2.0
PRODID:-//Markaut//Trade Fair Calendar//EN
CALSCALE:GREGORIAN
METHOD:PUBLISH
BEGIN:VEVENT
UID:h2-meet-mobility-energy-environment-technology-goyang-seoul-korea-republic@markaut.com
DTSTAMP:20260421T142103Z
DTSTART;VALUE=DATE:20261001
DTEND;VALUE=DATE:20261002
SUMMARY:H2 MEET - Mobility Energy Environment Technology
LOCATION:KINTEX Korea International Exhibition Center, Goyang/Seoul, Korea, Republic
DESCRIPTION:Int. Fachmesse für erneuerbare Energien, Energieeffizienz und Umwelt
URL:https://www.markaut.com/ru/fairs/h2-meet-mobility-energy-environment-technology-goyang-seoul-korea-republic/
END:VEVENT
END:VCALENDAR
