BEGIN:VCALENDAR
VERSION:2.0
PRODID:-//Markaut//Trade Fair Calendar//EN
CALSCALE:GREGORIAN
METHOD:PUBLISH
BEGIN:VEVENT
UID:fiets-en-wandelbeurs-fietsrai-utrecht-netherlands@markaut.com
DTSTAMP:20260424T151905Z
DTSTART;VALUE=DATE:20260424
DTEND;VALUE=DATE:20260425
SUMMARY:Fiets- en Wandelbeurs (FietsRAI)
LOCATION:Royal Dutch Jaarbeurs Exhibition & Convention Centre, Utrecht, Netherlands
DESCRIPTION:International exhibition for active holiday
URL:https://www.markaut.com/ru/fairs/fiets-en-wandelbeurs-fietsrai-utrecht-netherlands/
END:VEVENT
END:VCALENDAR
