BEGIN:VCALENDAR
VERSION:2.0
PRODID:-//Markaut//Trade Fair Calendar//EN
CALSCALE:GREGORIAN
METHOD:PUBLISH
BEGIN:VEVENT
UID:eurobois-lyon-france@markaut.com
DTSTAMP:20260421T201011Z
DTSTART;VALUE=DATE:20280201
DTEND;VALUE=DATE:20280202
SUMMARY:EUROBOIS
LOCATION:EUREXPO - Centre de Conventions et d\'Expositions de Lyon, Lyon, France
DESCRIPTION:The Timber, Woodworking Machinery and Fitting-Out Trade Show
URL:https://www.markaut.com/ru/fairs/eurobois-lyon-france/
END:VEVENT
END:VCALENDAR
