BEGIN:VCALENDAR
VERSION:2.0
PRODID:-//Markaut//Trade Fair Calendar//EN
CALSCALE:GREGORIAN
METHOD:PUBLISH
BEGIN:VEVENT
UID:dse-las-vegas-united-states-of-america@markaut.com
DTSTAMP:20260421T201547Z
DTSTART;VALUE=DATE:20261101
DTEND;VALUE=DATE:20261102
SUMMARY:DSE
LOCATION:Las Vegas Convention Center, Las Vegas, United States of America
DESCRIPTION:Digital Signage Experience
URL:https://www.markaut.com/ru/fairs/dse-las-vegas-united-states-of-america/
END:VEVENT
END:VCALENDAR
