BEGIN:VCALENDAR
VERSION:2.0
PRODID:-//Markaut//Trade Fair Calendar//EN
CALSCALE:GREGORIAN
METHOD:PUBLISH
BEGIN:VEVENT
UID:cidex-dammam-saudi-arabia@markaut.com
DTSTAMP:20260424T084212Z
DTSTART;VALUE=DATE:20271101
DTEND;VALUE=DATE:20271102
SUMMARY:CIDEX
LOCATION:Dhahran International Exhibition Centre, Dammam, Saudi Arabia
DESCRIPTION:International Exhibition for Construction and Interior Design
URL:https://www.markaut.com/ru/fairs/cidex-dammam-saudi-arabia/
END:VEVENT
END:VCALENDAR
