BEGIN:VCALENDAR
VERSION:2.0
PRODID:-//Markaut//Trade Fair Calendar//EN
CALSCALE:GREGORIAN
METHOD:PUBLISH
BEGIN:VEVENT
UID:china-cycle-shanghai-china-peoples-republic@markaut.com
DTSTAMP:20260424T113437Z
DTSTART;VALUE=DATE:20260501
DTEND;VALUE=DATE:20260502
SUMMARY:China Cycle
LOCATION:SNIEC - Shanghai New International Expo Centre, Shanghai, China, People\'s Republic
DESCRIPTION:International Bicycle & Motor Fair
URL:https://www.markaut.com/ru/fairs/china-cycle-shanghai-china-peoples-republic/
END:VEVENT
END:VCALENDAR
