BEGIN:VCALENDAR
VERSION:2.0
PRODID:-//Markaut//Trade Fair Calendar//EN
CALSCALE:GREGORIAN
METHOD:PUBLISH
BEGIN:VEVENT
UID:bottle-market-taste-the-spirit-bremen-germany@markaut.com
DTSTAMP:20260424T144503Z
DTSTART;VALUE=DATE:20261201
DTEND;VALUE=DATE:20261202
SUMMARY:BOTTLE MARKET - Taste the Spirit
LOCATION:Messe Bremen, Bremen, Germany
DESCRIPTION:
URL:https://www.markaut.com/ru/fairs/bottle-market-taste-the-spirit-bremen-germany/
END:VEVENT
END:VCALENDAR
