BEGIN:VCALENDAR
VERSION:2.0
PRODID:-//Markaut//Trade Fair Calendar//EN
CALSCALE:GREGORIAN
METHOD:PUBLISH
BEGIN:VEVENT
UID:bmt-napoli-naples-italy@markaut.com
DTSTAMP:20260421T102154Z
DTSTART;VALUE=DATE:20260421
DTEND;VALUE=DATE:20260422
SUMMARY:BMT Napoli
LOCATION:Mostra d\'Oltremare, Naples, Italy
DESCRIPTION:Tourism Fair
URL:https://www.markaut.com/ru/fairs/bmt-napoli-naples-italy/
END:VEVENT
END:VCALENDAR
