BEGIN:VCALENDAR
VERSION:2.0
PRODID:-//Markaut//Trade Fair Calendar//EN
CALSCALE:GREGORIAN
METHOD:PUBLISH
BEGIN:VEVENT
UID:biocultura-madrid-madrid-spain@markaut.com
DTSTAMP:20260419T160640Z
DTSTART;VALUE=DATE:20261101
DTEND;VALUE=DATE:20261102
SUMMARY:BioCultura Madrid
LOCATION:IFEMA Feria de Madrid, Madrid, Spain
DESCRIPTION:International Organic Products Fair and Responsible Consumption
URL:https://www.markaut.com/ru/fairs/biocultura-madrid-madrid-spain/
END:VEVENT
END:VCALENDAR
