BEGIN:VCALENDAR
VERSION:2.0
PRODID:-//Markaut//Trade Fair Calendar//EN
CALSCALE:GREGORIAN
METHOD:PUBLISH
BEGIN:VEVENT
UID:arbeitsschutz-aktuell-not-yet-determined-germany@markaut.com
DTSTAMP:20260420T060914Z
DTSTART;VALUE=DATE:20281001
DTEND;VALUE=DATE:20281002
SUMMARY:Arbeitsschutz Aktuell
LOCATION:noch offen/not yet determined, not yet determined, Germany
DESCRIPTION:Safety & Health - Congress & Trade Fair.
URL:https://www.markaut.com/ru/fairs/arbeitsschutz-aktuell-not-yet-determined-germany/
END:VEVENT
END:VCALENDAR
