BEGIN:VCALENDAR
VERSION:2.0
PRODID:-//Markaut//Trade Fair Calendar//EN
CALSCALE:GREGORIAN
METHOD:PUBLISH
BEGIN:VEVENT
UID:world-of-concrete-las-vegas-united-states-of-america@markaut.com
DTSTAMP:20260421T103012Z
DTSTART;VALUE=DATE:20260421
DTEND;VALUE=DATE:20260422
SUMMARY:World of Concrete
LOCATION:Las Vegas Convention Center, Las Vegas, United States of America
DESCRIPTION:International Exhibition and Conference on Construction
URL:https://www.markaut.com/pt/fairs/world-of-concrete-las-vegas-united-states-of-america/
END:VEVENT
END:VCALENDAR
