BEGIN:VCALENDAR
VERSION:2.0
PRODID:-//Markaut//Trade Fair Calendar//EN
CALSCALE:GREGORIAN
METHOD:PUBLISH
BEGIN:VEVENT
UID:sema-show-las-vegas-united-states-of-america@markaut.com
DTSTAMP:20260419T135435Z
DTSTART;VALUE=DATE:20271101
DTEND;VALUE=DATE:20271102
SUMMARY:SEMA Show
LOCATION:Las Vegas Convention Center, Las Vegas, United States of America
DESCRIPTION:Speciality Equipment Market Association/Auto International
URL:https://www.markaut.com/pt/fairs/sema-show-las-vegas-united-states-of-america/
END:VEVENT
END:VCALENDAR
