BEGIN:VCALENDAR
VERSION:2.0
PRODID:-//Markaut//Trade Fair Calendar//EN
CALSCALE:GREGORIAN
METHOD:PUBLISH
BEGIN:VEVENT
UID:rsa-conference-san-francisco-united-states-of-america@markaut.com
DTSTAMP:20260419T123543Z
DTSTART;VALUE=DATE:20260419
DTEND;VALUE=DATE:20260420
SUMMARY:RSA Conference
LOCATION:The Moscone Center, San Francisco, United States of America
DESCRIPTION:
URL:https://www.markaut.com/pt/fairs/rsa-conference-san-francisco-united-states-of-america/
END:VEVENT
END:VCALENDAR
